









BEGIN:VCALENDAR
VERSION:2.0
PRODID:spatie/icalendar-generator
DESCRIPTION:Évènements de Locadie
X-WR-CALDESC:Évènements de Locadie
REFRESH-INTERVAL;VALUE=DURATION:PT1440M
X-PUBLISHED-TTL:PT1440M
BEGIN:VTIMEZONE
TZID:Europe/Paris
BEGIN:STANDARD
DTSTART:20211031T030000Z
TZOFFSETFROM:+0200
TZOFFSETTO:+0100
END:STANDARD
BEGIN:DAYLIGHT
DTSTART:20220327T020000Z
TZOFFSETFROM:+0100
TZOFFSETTO:+0200
END:DAYLIGHT
END:VTIMEZONE
BEGIN:VTIMEZONE
TZID:UTC
BEGIN:STANDARD
DTSTART:20250726T132416Z
TZOFFSETFROM:+0000
TZOFFSETTO:+0000
END:STANDARD
END:VTIMEZONE
BEGIN:VEVENT
UID:4-4
DTSTAMP:20260422T132416Z
SUMMARY:Lancement de la marque Pastrelle
LOCATION:
ORGANIZER;CN=Admin:MAILTO:marc.heintz@free.fr
DTSTART;TZID=Europe/Paris;VALUE=DATE:20220301
DTEND;TZID=Europe/Paris;VALUE=DATE:20220302
X-ALT-DESC;FMTTYPE=TEXT/HTML:<p>Lancement de la marque Pastrelle</p>\n
CATEGORIES:General
URL;VALUE=URI:https://www.locadie.fr/mc-events/lancement-de-la-marque-pastr
 elle/
METHOD:PUBLISH
END:VEVENT
END:VCALENDAR