









BEGIN:VCALENDAR
VERSION:2.0
PRODID:spatie/icalendar-generator
DESCRIPTION:Évènements de Locadie
X-WR-CALDESC:Évènements de Locadie
REFRESH-INTERVAL;VALUE=DURATION:PT1440M
X-PUBLISHED-TTL:PT1440M
BEGIN:VTIMEZONE
TZID:Europe/Paris
BEGIN:STANDARD
DTSTART:20211031T030000Z
TZOFFSETFROM:+0200
TZOFFSETTO:+0100
END:STANDARD
BEGIN:DAYLIGHT
DTSTART:20220327T020000Z
TZOFFSETFROM:+0100
TZOFFSETTO:+0200
END:DAYLIGHT
END:VTIMEZONE
BEGIN:VTIMEZONE
TZID:UTC
BEGIN:STANDARD
DTSTART:20250728T084559Z
TZOFFSETFROM:+0000
TZOFFSETTO:+0000
END:STANDARD
END:VTIMEZONE
BEGIN:VEVENT
UID:8-3
DTSTAMP:20260424T084559Z
SUMMARY:Lancement du Projet Pastrelle
LOCATION:
ORGANIZER;CN=Tine:MAILTO:claudine.lapp@neuf.fr
DTSTART;TZID=Europe/Paris;VALUE=DATE:20220207
DTEND;TZID=Europe/Paris;VALUE=DATE:20220208
X-ALT-DESC;FMTTYPE=TEXT/HTML:
CATEGORIES:General
URL;VALUE=URI:https://www.locadie.fr/mc-events/lancement-du-projet-pastrell
 e/
METHOD:PUBLISH
END:VEVENT
END:VCALENDAR